BEGIN:VCALENDAR
VERSION:2.0
PRODID:-//Colleville-Montgomery - ECPv5.16.1.1//NONSGML v1.0//EN
CALSCALE:GREGORIAN
METHOD:PUBLISH
X-WR-CALNAME:Colleville-Montgomery
X-ORIGINAL-URL:https://www.colleville-montgomery.fr
X-WR-CALDESC:Évènements pour Colleville-Montgomery
BEGIN:VTIMEZONE
TZID:UTC
BEGIN:STANDARD
TZOFFSETFROM:+0000
TZOFFSETTO:+0000
TZNAME:UTC
DTSTART:20230101T000000
END:STANDARD
END:VTIMEZONE
BEGIN:VEVENT
DTSTART;TZID=UTC:20231019T190000
DTEND;TZID=UTC:20231019T190000
DTSTAMP:20260422T083730
CREATED:20230913T094202Z
LAST-MODIFIED:20230913T094340Z
UID:5775-1697742000-1697742000@www.colleville-montgomery.fr
SUMMARY:Colleville en Dix Lire 2023-2024
DESCRIPTION:« Colleville en Dix Lire » \nRéunion de rentrée et sélection des dix ouvrages pour la saison 2023-2024 \nJeudi 19 octobre\n19h00\nMédiathèque
URL:https://www.colleville-montgomery.fr/event/colleville-en-dix-lre/
LOCATION:Médiathèque\, 11 Grande Rue\, Colleville-Montgomery\, 14880\, France
CATEGORIES:Actualités
END:VEVENT
END:VCALENDAR