BEGIN:VCALENDAR
VERSION:2.0
PRODID:-//Colleville-Montgomery - ECPv5.16.1.1//NONSGML v1.0//EN
CALSCALE:GREGORIAN
METHOD:PUBLISH
X-WR-CALNAME:Colleville-Montgomery
X-ORIGINAL-URL:https://www.colleville-montgomery.fr
X-WR-CALDESC:Évènements pour Colleville-Montgomery
BEGIN:VTIMEZONE
TZID:UTC
BEGIN:STANDARD
TZOFFSETFROM:+0000
TZOFFSETTO:+0000
TZNAME:UTC
DTSTART:20220101T000000
END:STANDARD
END:VTIMEZONE
BEGIN:VEVENT
DTSTART;TZID=UTC:20220720T203000
DTEND;TZID=UTC:20220720T223000
DTSTAMP:20260423T085751
CREATED:20220713T114722Z
LAST-MODIFIED:20220713T114722Z
UID:4834-1658349000-1658356200@www.colleville-montgomery.fr
SUMMARY:Concert
DESCRIPTION:Le School of rock\nmercredi 20 juillet à 20h30 \nsalle socioculturelle\nentrée gratuite
URL:https://www.colleville-montgomery.fr/event/concert-2/
END:VEVENT
END:VCALENDAR