BEGIN:VCALENDAR
VERSION:2.0
PRODID:-//Colleville-Montgomery - ECPv5.16.1.1//NONSGML v1.0//EN
CALSCALE:GREGORIAN
METHOD:PUBLISH
X-WR-CALNAME:Colleville-Montgomery
X-ORIGINAL-URL:https://www.colleville-montgomery.fr
X-WR-CALDESC:Ã‰vÃ¨nements pour Colleville-Montgomery
BEGIN:VTIMEZONE
TZID:UTC
BEGIN:STANDARD
TZOFFSETFROM:+0000
TZOFFSETTO:+0000
TZNAME:UTC
DTSTART:20230101T000000
END:STANDARD
END:VTIMEZONE
BEGIN:VEVENT
DTSTART;TZID=UTC:20230917T170000
DTEND;TZID=UTC:20230917T190000
DTSTAMP:20260422T084304
CREATED:20230828T195407Z
LAST-MODIFIED:20230828T195407Z
UID:5758-1694970000-1694977200@www.colleville-montgomery.fr
SUMMARY:Concert de jazz
DESCRIPTION:Dimanche 17 septembre 2023\nÃ  17h\nsalle Le Caprice\nproposÃ© et organisÃ© par Â«Â Musique en Ã©crinÂ Â» \nEntrÃ©e: 10 â‚¬. Gratuit pour les scolaires. \n  \nÂ 
URL:https://www.colleville-montgomery.fr/event/concert-de-jazz/
END:VEVENT
END:VCALENDAR