BEGIN:VCALENDAR
VERSION:2.0
PRODID:-//Colleville-Montgomery - ECPv5.16.1.1//NONSGML v1.0//EN
CALSCALE:GREGORIAN
METHOD:PUBLISH
X-WR-CALNAME:Colleville-Montgomery
X-ORIGINAL-URL:https://www.colleville-montgomery.fr
X-WR-CALDESC:Ã‰vÃ¨nements pour Colleville-Montgomery
BEGIN:VTIMEZONE
TZID:UTC
BEGIN:STANDARD
TZOFFSETFROM:+0000
TZOFFSETTO:+0000
TZNAME:UTC
DTSTART:20240101T000000
END:STANDARD
END:VTIMEZONE
BEGIN:VEVENT
DTSTART;TZID=UTC:20240427T080000
DTEND;TZID=UTC:20240612T223000
DTSTAMP:20260421T085250
CREATED:20240415T114859Z
LAST-MODIFIED:20240613T063925Z
UID:6238-1714204800-1718231400@www.colleville-montgomery.fr
SUMMARY:Animations autour du 80Ã¨me anniversaire
DESCRIPTION:du DÃ©barquement\n  \n \nAffiche A4 Animation-80e finale
URL:https://www.colleville-montgomery.fr/event/de-mai-a-aout-2024/
END:VEVENT
END:VCALENDAR