BEGIN:VCALENDAR
VERSION:2.0
PRODID:-//Colleville-Montgomery - ECPv5.16.1.1//NONSGML v1.0//EN
CALSCALE:GREGORIAN
METHOD:PUBLISH
X-WR-CALNAME:Colleville-Montgomery
X-ORIGINAL-URL:https://www.colleville-montgomery.fr
X-WR-CALDESC:Ã‰vÃ¨nements pour Colleville-Montgomery
BEGIN:VTIMEZONE
TZID:UTC
BEGIN:STANDARD
TZOFFSETFROM:+0000
TZOFFSETTO:+0000
TZNAME:UTC
DTSTART:20210101T000000
END:STANDARD
END:VTIMEZONE
BEGIN:VEVENT
DTSTART;TZID=UTC:20211221T080000
DTEND;TZID=UTC:20211231T170000
DTSTAMP:20260421T113533
CREATED:20211221T202055Z
LAST-MODIFIED:20211221T202540Z
UID:4267-1640073600-1640970000@www.colleville-montgomery.fr
SUMMARY:Joyeuses fÃªtes
DESCRIPTION:de la part de la MunicipalitÃ©\nde COLLEVILLE-MONTGOMERY.\n \n 
URL:https://www.colleville-montgomery.fr/event/joyeuses-fetes/
CATEGORIES:ActualitÃ©s
END:VEVENT
END:VCALENDAR