BEGIN:VCALENDAR
VERSION:2.0
PRODID:-//Colleville-Montgomery - ECPv5.16.1.1//NONSGML v1.0//EN
CALSCALE:GREGORIAN
METHOD:PUBLISH
X-WR-CALNAME:Colleville-Montgomery
X-ORIGINAL-URL:https://www.colleville-montgomery.fr
X-WR-CALDESC:Ã‰vÃ¨nements pour Colleville-Montgomery
BEGIN:VTIMEZONE
TZID:UTC
BEGIN:STANDARD
TZOFFSETFROM:+0000
TZOFFSETTO:+0000
TZNAME:UTC
DTSTART:20260101T000000
END:STANDARD
END:VTIMEZONE
BEGIN:VEVENT
DTSTART;TZID=UTC:20260117T103000
DTEND;TZID=UTC:20260117T113000
DTSTAMP:20260422T113954
CREATED:20260106T151908Z
LAST-MODIFIED:20260106T154921Z
UID:7735-1768645800-1768649400@www.colleville-montgomery.fr
SUMMARY:Pause ThÃ© Livres
DESCRIPTION:L&rsquo;Ã©quipe de la mÃ©diathÃ¨que vous invite Ã  venir Ã©changer autour de vos lectures rÃ©centes ou anciennes Ã  l&rsquo;occasion de \nÂ«Â Pause ThÃ© LivresÂ Â»\n \nSamedi 17 janvier\n10h30\nMÃ©diathÃ¨que \nVous avez aimez &#8211; ou non &#8211; un roman\, une BD\, une piÃ¨ce de thÃ©Ã¢tre\, un album jeunesse&#8230;venez avec et faites le nous partager ! \n 
URL:https://www.colleville-montgomery.fr/event/pause-the-livres-6/
LOCATION:MÃ©diathÃ¨que\, 11 Grande Rue\, Colleville-Montgomery\, 14880\, France
CATEGORIES:ActualitÃ©s
END:VEVENT
END:VCALENDAR