BEGIN:VCALENDAR
VERSION:2.0
PRODID:-//Colleville-Montgomery - ECPv5.16.1.1//NONSGML v1.0//EN
CALSCALE:GREGORIAN
METHOD:PUBLISH
X-WR-CALNAME:Colleville-Montgomery
X-ORIGINAL-URL:https://www.colleville-montgomery.fr
X-WR-CALDESC:Évènements pour Colleville-Montgomery
BEGIN:VTIMEZONE
TZID:UTC
BEGIN:STANDARD
TZOFFSETFROM:+0000
TZOFFSETTO:+0000
TZNAME:UTC
DTSTART:20260101T000000
END:STANDARD
END:VTIMEZONE
BEGIN:VEVENT
DTSTART;TZID=UTC:20260314T103000
DTEND;TZID=UTC:20260314T120000
DTSTAMP:20260420T151421
CREATED:20260303T144524Z
LAST-MODIFIED:20260303T144524Z
UID:7836-1773484200-1773489600@www.colleville-montgomery.fr
SUMMARY:"Pause Thé Livres"
DESCRIPTION:« Pause Thé Livres » \nL&rsquo;équipe de la médiathèque vous invite à une rencontre informelle afin d&rsquo;échanger autour de livres que vous avez aimés &#8211; ou non ! &#8211; et dont vous souhaitez parler !\n(Roman\, BD\, essai\, théâtre\, album jeunesse&#8230;récents ou anciens) \nSamedi 14 mars\n10h30\nMédiathèque
URL:https://www.colleville-montgomery.fr/event/pause-the-livres-7/
LOCATION:Médiathèque\, 11 Grande Rue\, Colleville-Montgomery\, 14880\, France
CATEGORIES:Actualités
END:VEVENT
END:VCALENDAR