BEGIN:VCALENDAR
VERSION:2.0
PRODID:-//Colleville-Montgomery - ECPv5.16.1.1//NONSGML v1.0//EN
CALSCALE:GREGORIAN
METHOD:PUBLISH
X-WR-CALNAME:Colleville-Montgomery
X-ORIGINAL-URL:https://www.colleville-montgomery.fr
X-WR-CALDESC:Évènements pour Colleville-Montgomery
BEGIN:VTIMEZONE
TZID:UTC
BEGIN:STANDARD
TZOFFSETFROM:+0000
TZOFFSETTO:+0000
TZNAME:UTC
DTSTART:20250101T000000
END:STANDARD
END:VTIMEZONE
BEGIN:VEVENT
DTSTART;TZID=UTC:20250116T090000
DTEND;TZID=UTC:20250215T170000
DTSTAMP:20260422T083352
CREATED:20241220T130953Z
LAST-MODIFIED:20241220T131000Z
UID:6898-1737018000-1739638800@www.colleville-montgomery.fr
SUMMARY:RECENSEMENT
DESCRIPTION:Le recensement de la population\naura lieu sur notre commune\ndu 16 janvier au 15 février 2025.\nNous vous remercions de faire bon accueil à l&rsquo;agent recenseur \nde votre secteur.
URL:https://www.colleville-montgomery.fr/event/recensement/
CATEGORIES:Actualités
END:VEVENT
END:VCALENDAR