BEGIN:VCALENDAR
VERSION:2.0
PRODID:-//Colleville-Montgomery - ECPv5.16.1.1//NONSGML v1.0//EN
CALSCALE:GREGORIAN
METHOD:PUBLISH
X-WR-CALNAME:Colleville-Montgomery
X-ORIGINAL-URL:https://www.colleville-montgomery.fr
X-WR-CALDESC:Évènements pour Colleville-Montgomery
BEGIN:VTIMEZONE
TZID:UTC
BEGIN:STANDARD
TZOFFSETFROM:+0000
TZOFFSETTO:+0000
TZNAME:UTC
DTSTART:20220101T000000
END:STANDARD
END:VTIMEZONE
BEGIN:VEVENT
DTSTART;TZID=UTC:20221203T101500
DTEND;TZID=UTC:20221203T111500
DTSTAMP:20260422T084305
CREATED:20221109T173037Z
LAST-MODIFIED:20221109T173245Z
UID:5087-1670062500-1670066100@www.colleville-montgomery.fr
SUMMARY:Spectacle littéraire
DESCRIPTION:Les florie&rsquo;stoires de l&rsquo;arrosoir:\nLa magie de Noël\nle samedi 3 décembre de 10h15 à 11h15\npour les 0-6 ans \, à la médiathèque de Colleville-Montgomery \n3 € / personne. \nRéservation: mjcinter.maurine@gmail.com
URL:https://www.colleville-montgomery.fr/event/spectacle-litteraire/
END:VEVENT
END:VCALENDAR