BEGIN:VCALENDAR
VERSION:2.0
PRODID:-//Colleville-Montgomery - ECPv5.16.1.1//NONSGML v1.0//EN
CALSCALE:GREGORIAN
METHOD:PUBLISH
X-WR-CALNAME:Colleville-Montgomery
X-ORIGINAL-URL:https://www.colleville-montgomery.fr
X-WR-CALDESC:Évènements pour Colleville-Montgomery
BEGIN:VTIMEZONE
TZID:UTC
BEGIN:STANDARD
TZOFFSETFROM:+0000
TZOFFSETTO:+0000
TZNAME:UTC
DTSTART:20200101T000000
END:STANDARD
END:VTIMEZONE
BEGIN:VEVENT
DTSTART;TZID=UTC:20201019T070000
DTEND;TZID=UTC:20201102T070000
DTSTAMP:20260420T140019
CREATED:20201014T194052Z
LAST-MODIFIED:20201024T134635Z
UID:2933-1603090800-1604300400@www.colleville-montgomery.fr
SUMMARY:Travaux voirie
DESCRIPTION:Travaux rue des écoles : \nentre la rue du Caprice et la route de Ouistreham\nà partir du lundi 19 octobre.
URL:https://www.colleville-montgomery.fr/event/travaux-voirie/
CATEGORIES:Actualités
END:VEVENT
END:VCALENDAR