BEGIN:VCALENDAR
VERSION:2.0
PRODID:-//Colleville-Montgomery - ECPv5.16.1.1//NONSGML v1.0//EN
CALSCALE:GREGORIAN
METHOD:PUBLISH
X-WR-CALNAME:Colleville-Montgomery
X-ORIGINAL-URL:https://www.colleville-montgomery.fr
X-WR-CALDESC:Ã‰vÃ¨nements pour Colleville-Montgomery
BEGIN:VTIMEZONE
TZID:UTC
BEGIN:STANDARD
TZOFFSETFROM:+0000
TZOFFSETTO:+0000
TZNAME:UTC
DTSTART:20230101T000000
END:STANDARD
END:VTIMEZONE
BEGIN:VEVENT
DTSTART;TZID=UTC:20230822T150000
DTEND;TZID=UTC:20230822T170000
DTSTAMP:20260422T084050
CREATED:20230816T163658Z
LAST-MODIFIED:20230816T163940Z
UID:5734-1692716400-1692723600@www.colleville-montgomery.fr
SUMMARY:Visites guidÃ©es du site Hillman
DESCRIPTION:le mardi Ã  15h\njusqu&rsquo;Ã  fin septembre 2023\npar les membres de l&rsquo;association Les Amis du Suffolk Regiment \nÂ Sans inscription. \nParticipation libre \n \n 
URL:https://www.colleville-montgomery.fr/event/visites-guidees-du-site-hillman-3/
CATEGORIES:ActualitÃ©s
END:VEVENT
END:VCALENDAR