BEGIN:VCALENDAR
VERSION:2.0
PRODID:-//Colleville-Montgomery - ECPv5.16.1.1//NONSGML v1.0//EN
CALSCALE:GREGORIAN
METHOD:PUBLISH
X-WR-CALNAME:Colleville-Montgomery
X-ORIGINAL-URL:https://www.colleville-montgomery.fr
X-WR-CALDESC:Évènements pour Colleville-Montgomery
BEGIN:VTIMEZONE
TZID:UTC
BEGIN:STANDARD
TZOFFSETFROM:+0000
TZOFFSETTO:+0000
TZNAME:UTC
DTSTART:20200101T000000
END:STANDARD
END:VTIMEZONE
BEGIN:VEVENT
DTSTART;TZID=UTC:20200109T203000
DTEND;TZID=UTC:20200109T203000
DTSTAMP:20260425T154319
CREATED:20191002T133604Z
LAST-MODIFIED:20191002T133604Z
UID:2033-1578601800-1578601800@www.colleville-montgomery.fr
SUMMARY:Volley: Coleville 1 / Ifs 1
DESCRIPTION:Volley Club Colleville1 rencontre Ifs 1 \nJeudi 9 janvier\n20h30 \nHalle de sports
URL:https://www.colleville-montgomery.fr/event/volley-coleville-1-ifs-1/
LOCATION:Halle des sports\, rue des Petites Rues\, Colleville-Montgomery\, 14880
END:VEVENT
END:VCALENDAR